Package: CGHnormaliter Version: 1.63.0 Command: /Library/Frameworks/R.framework/Resources/bin/R CMD build --keep-empty-dirs --no-resave-data CGHnormaliter StartedAt: 2025-07-16 15:50:43 -0400 (Wed, 16 Jul 2025) EndedAt: 2025-07-16 15:51:05 -0400 (Wed, 16 Jul 2025) EllapsedTime: 22.3 seconds RetCode: 0 Status: OK PackageFile: CGHnormaliter_1.63.0.tar.gz PackageFileSize: 1.245 MiB