Package: CGHnormaliter Version: 1.63.0 Command: rm -rf CGHnormaliter.buildbin-libdir && mkdir CGHnormaliter.buildbin-libdir && /Users/biocbuild/BBS/utils/build-universal.sh CGHnormaliter_1.63.0.tar.gz /Library/Frameworks/R.framework/Resources/bin/R CGHnormaliter.buildbin-libdir StartedAt: 2025-07-16 22:12:48 -0400 (Wed, 16 Jul 2025) EndedAt: 2025-07-16 22:12:51 -0400 (Wed, 16 Jul 2025) EllapsedTime: 3.1 seconds RetCode: 0 Status: OK PackageFile: CGHnormaliter_1.63.0.tgz PackageFileSize: 1.267 MiB