Package: CGHcall Version: 2.71.0 Command: F:\biocbuild\bbs-3.22-bioc\R\bin\R.exe CMD INSTALL CGHcall StartedAt: 2025-07-16 15:28:47 -0400 (Wed, 16 Jul 2025) EndedAt: 2025-07-16 15:29:00 -0400 (Wed, 16 Jul 2025) EllapsedTime: 13.0 seconds RetCode: 0 Status: OK