Package: CGHcall Version: 2.71.0 Command: F:\biocbuild\bbs-3.22-bioc\R\bin\R.exe CMD check --no-multiarch --install=check:CGHcall.install-out.txt --library=F:\biocbuild\bbs-3.22-bioc\R\library --no-vignettes --timings CGHcall_2.71.0.tar.gz StartedAt: 2025-07-18 00:17:01 -0400 (Fri, 18 Jul 2025) EndedAt: 2025-07-18 00:17:51 -0400 (Fri, 18 Jul 2025) EllapsedTime: 50.3 seconds RetCode: 0 Status: WARNINGS CheckDir: CGHcall.Rcheck Warnings: 1