Package: CGHcall Version: 2.71.0 Command: rm -rf CGHcall.buildbin-libdir && mkdir CGHcall.buildbin-libdir && F:\biocbuild\bbs-3.22-bioc\R\bin\R.exe CMD INSTALL --build --library=CGHcall.buildbin-libdir CGHcall_2.71.0.tar.gz StartedAt: 2025-07-17 08:38:30 -0400 (Thu, 17 Jul 2025) EndedAt: 2025-07-17 08:38:41 -0400 (Thu, 17 Jul 2025) EllapsedTime: 10.6 seconds RetCode: 0 Status: OK PackageFile: CGHcall_2.71.0.zip PackageFileSize: 421.2 KiB