Package: CGHcall Version: 2.71.0 Command: /Library/Frameworks/R.framework/Resources/bin/R CMD check --install=check:CGHcall.install-out.txt --library=/Library/Frameworks/R.framework/Resources/library --no-vignettes --timings CGHcall_2.71.0.tar.gz StartedAt: 2025-07-11 18:27:59 -0400 (Fri, 11 Jul 2025) EndedAt: 2025-07-11 18:28:16 -0400 (Fri, 11 Jul 2025) EllapsedTime: 17.2 seconds RetCode: 0 Status: WARNINGS CheckDir: CGHcall.Rcheck Warnings: 1