Package: CGHcall Version: 2.71.0 Command: /Library/Frameworks/R.framework/Resources/bin/R CMD build --keep-empty-dirs --no-resave-data CGHcall StartedAt: 2025-07-11 15:50:24 -0400 (Fri, 11 Jul 2025) EndedAt: 2025-07-11 15:50:34 -0400 (Fri, 11 Jul 2025) EllapsedTime: 10.1 seconds RetCode: 0 Status: OK PackageFile: CGHcall_2.71.0.tar.gz PackageFileSize: 451.7 KiB