Package: CGEN Version: 3.45.0 Command: rm -rf CGEN.buildbin-libdir && mkdir CGEN.buildbin-libdir && F:\biocbuild\bbs-3.22-bioc\R\bin\R.exe CMD INSTALL --build --library=CGEN.buildbin-libdir CGEN_3.45.0.tar.gz StartedAt: 2025-07-25 08:54:30 -0400 (Fri, 25 Jul 2025) EndedAt: 2025-07-25 08:55:53 -0400 (Fri, 25 Jul 2025) EllapsedTime: 83.1 seconds RetCode: 0 Status: OK PackageFile: CGEN_3.45.0.zip PackageFileSize: 1.756 MiB