Package: CFAssay Version: 1.43.0 Command: /home/biocbuild/R/R/bin/R CMD INSTALL CFAssay StartedAt: 2025-07-14 20:10:12 -0000 (Mon, 14 Jul 2025) EndedAt: 2025-07-14 20:10:28 -0000 (Mon, 14 Jul 2025) EllapsedTime: 16.0 seconds RetCode: 0 Status: OK