Package: CFAssay Version: 1.43.0 Command: /home/biocbuild/R/R/bin/R CMD check --install=check:CFAssay.install-out.txt --library=/home/biocbuild/R/R/site-library --no-vignettes --timings CFAssay_1.43.0.tar.gz StartedAt: 2025-07-08 04:59:57 -0000 (Tue, 08 Jul 2025) EndedAt: 2025-07-08 05:00:19 -0000 (Tue, 08 Jul 2025) EllapsedTime: 22.0 seconds RetCode: 0 Status: OK CheckDir: CFAssay.Rcheck Warnings: 0