Package: CFAssay Version: 1.43.0 Command: /home/biocbuild/R/R/bin/R CMD build --keep-empty-dirs --no-resave-data CFAssay StartedAt: 2025-07-07 22:20:08 -0000 (Mon, 07 Jul 2025) EndedAt: 2025-07-07 22:20:15 -0000 (Mon, 07 Jul 2025) EllapsedTime: 7.0 seconds RetCode: 0 Status: OK PackageFile: CFAssay_1.43.0.tar.gz PackageFileSize: 312.1 KiB