Package: CFAssay Version: 1.43.0 Command: F:\biocbuild\bbs-3.22-bioc\R\bin\R.exe CMD INSTALL CFAssay StartedAt: 2025-07-21 15:37:56 -0400 (Mon, 21 Jul 2025) EndedAt: 2025-07-21 15:38:05 -0400 (Mon, 21 Jul 2025) EllapsedTime: 8.9 seconds RetCode: 0 Status: OK