Package: CFAssay Version: 1.43.0 Command: /home/biocbuild/bbs-3.22-bioc/R/bin/R CMD check --install=check:CFAssay.install-out.txt --library=/home/biocbuild/bbs-3.22-bioc/R/site-library --timings CFAssay_1.43.0.tar.gz StartedAt: 2025-07-09 21:50:13 -0400 (Wed, 09 Jul 2025) EndedAt: 2025-07-09 21:50:33 -0400 (Wed, 09 Jul 2025) EllapsedTime: 20.0 seconds RetCode: 0 Status: OK CheckDir: CFAssay.Rcheck Warnings: 0