Package: CFAssay Version: 1.43.0 Command: /home/biocbuild/bbs-3.22-bioc/R/bin/R CMD build --keep-empty-dirs --no-resave-data --md5 CFAssay StartedAt: 2025-07-09 17:36:33 -0400 (Wed, 09 Jul 2025) EndedAt: 2025-07-09 17:36:40 -0400 (Wed, 09 Jul 2025) EllapsedTime: 7.0 seconds RetCode: 0 Status: OK PackageFile: CFAssay_1.43.0.tar.gz PackageFileSize: 324 KiB