Package: CFAssay Version: 1.43.0 Command: /Library/Frameworks/R.framework/Resources/bin/R CMD INSTALL CFAssay StartedAt: 2025-07-09 15:10:36 -0400 (Wed, 09 Jul 2025) EndedAt: 2025-07-09 15:10:40 -0400 (Wed, 09 Jul 2025) EllapsedTime: 3.8 seconds RetCode: 0 Status: OK