Package: CDI Version: 1.7.0 Command: /home/biocbuild/R/R/bin/R CMD INSTALL CDI StartedAt: 2025-07-14 20:32:57 -0000 (Mon, 14 Jul 2025) EndedAt: 2025-07-14 20:33:45 -0000 (Mon, 14 Jul 2025) EllapsedTime: 47.8 seconds RetCode: 0 Status: OK