Package: CDI Version: 1.7.0 Command: /home/biocbuild/R/R/bin/R CMD check --install=check:CDI.install-out.txt --library=/home/biocbuild/R/R/site-library --no-vignettes --timings CDI_1.7.0.tar.gz StartedAt: 2025-07-18 05:07:11 -0000 (Fri, 18 Jul 2025) EndedAt: 2025-07-18 05:12:36 -0000 (Fri, 18 Jul 2025) EllapsedTime: 325.4 seconds RetCode: 0 Status: OK CheckDir: CDI.Rcheck Warnings: 0