Package: CCPROMISE Version: 1.35.0 Command: F:\biocbuild\bbs-3.22-bioc\R\bin\R.exe CMD check --no-multiarch --install=check:CCPROMISE.install-out.txt --library=F:\biocbuild\bbs-3.22-bioc\R\library --no-vignettes --timings CCPROMISE_1.35.0.tar.gz StartedAt: 2025-06-30 00:09:18 -0400 (Mon, 30 Jun 2025) EndedAt: 2025-06-30 00:12:40 -0400 (Mon, 30 Jun 2025) EllapsedTime: 201.8 seconds RetCode: 0 Status: WARNINGS CheckDir: CCPROMISE.Rcheck Warnings: 1