Package: CCPROMISE Version: 1.35.0 Command: chmod a+r CCPROMISE -R && F:\biocbuild\bbs-3.22-bioc\R\bin\R.exe CMD build --keep-empty-dirs --no-resave-data CCPROMISE StartedAt: 2025-06-29 17:51:41 -0400 (Sun, 29 Jun 2025) EndedAt: 2025-06-29 17:52:43 -0400 (Sun, 29 Jun 2025) EllapsedTime: 62.1 seconds RetCode: 0 Status: OK PackageFile: CCPROMISE_1.35.0.tar.gz PackageFileSize: 1.031 MiB