Package: CCPROMISE Version: 1.35.0 Command: rm -rf CCPROMISE.buildbin-libdir && mkdir CCPROMISE.buildbin-libdir && F:\biocbuild\bbs-3.22-bioc\R\bin\R.exe CMD INSTALL --build --library=CCPROMISE.buildbin-libdir CCPROMISE_1.35.0.tar.gz StartedAt: 2025-06-30 08:22:59 -0400 (Mon, 30 Jun 2025) EndedAt: 2025-06-30 08:23:32 -0400 (Mon, 30 Jun 2025) EllapsedTime: 32.4 seconds RetCode: 0 Status: OK PackageFile: CCPROMISE_1.35.0.zip PackageFileSize: 1.084 MiB