Package: CCPROMISE Version: 1.35.0 Command: /Library/Frameworks/R.framework/Resources/bin/R CMD check --install=check:CCPROMISE.install-out.txt --library=/Library/Frameworks/R.framework/Resources/library --no-vignettes --timings CCPROMISE_1.35.0.tar.gz StartedAt: 2025-06-29 19:26:12 -0400 (Sun, 29 Jun 2025) EndedAt: 2025-06-29 19:29:16 -0400 (Sun, 29 Jun 2025) EllapsedTime: 184.3 seconds RetCode: 0 Status: WARNINGS CheckDir: CCPROMISE.Rcheck Warnings: 1