Package: CCAFE Version: 1.1.0 Command: /home/biocbuild/R/R/bin/R CMD INSTALL CCAFE StartedAt: 2025-06-30 21:06:58 -0000 (Mon, 30 Jun 2025) EndedAt: 2025-06-30 21:07:03 -0000 (Mon, 30 Jun 2025) EllapsedTime: 5.1 seconds RetCode: 0 Status: OK