Package: CCAFE Version: 1.1.0 Command: /home/biocbuild/R/R/bin/R CMD build --keep-empty-dirs --no-resave-data CCAFE StartedAt: 2025-06-30 22:24:50 -0000 (Mon, 30 Jun 2025) EndedAt: 2025-06-30 22:26:44 -0000 (Mon, 30 Jun 2025) EllapsedTime: 114.0 seconds RetCode: 0 Status: OK PackageFile: CCAFE_1.1.0.tar.gz PackageFileSize: 5.405 MiB