Package: CCAFE Version: 1.1.0 Command: /Library/Frameworks/R.framework/Resources/bin/R CMD build --keep-empty-dirs --no-resave-data CCAFE StartedAt: 2025-07-15 16:29:08 -0400 (Tue, 15 Jul 2025) EndedAt: 2025-07-15 16:30:29 -0400 (Tue, 15 Jul 2025) EllapsedTime: 81.1 seconds RetCode: 0 Status: OK PackageFile: CCAFE_1.1.0.tar.gz PackageFileSize: 5.681 MiB