Package: CATALYST Version: 1.33.0 Command: chmod a+r CATALYST -R && F:\biocbuild\bbs-3.22-bioc\R\bin\R.exe CMD build --keep-empty-dirs --no-resave-data CATALYST StartedAt: 2025-07-09 18:24:31 -0400 (Wed, 09 Jul 2025) EndedAt: 2025-07-09 18:31:17 -0400 (Wed, 09 Jul 2025) EllapsedTime: 405.7 seconds RetCode: 0 Status: OK PackageFile: CATALYST_1.33.0.tar.gz PackageFileSize: 6.755 MiB