Package: CATALYST Version: 1.33.0 Command: rm -rf CATALYST.buildbin-libdir && mkdir CATALYST.buildbin-libdir && F:\biocbuild\bbs-3.22-bioc\R\bin\R.exe CMD INSTALL --build --library=CATALYST.buildbin-libdir CATALYST_1.33.0.tar.gz StartedAt: 2025-07-10 09:10:28 -0400 (Thu, 10 Jul 2025) EndedAt: 2025-07-10 09:11:50 -0400 (Thu, 10 Jul 2025) EllapsedTime: 81.8 seconds RetCode: 0 Status: OK PackageFile: CATALYST_1.33.0.zip PackageFileSize: 7.462 MiB