Package: CATALYST Version: 1.33.1 Command: rm -rf CATALYST.buildbin-libdir && mkdir CATALYST.buildbin-libdir && /Users/biocbuild/BBS/utils/build-universal.sh CATALYST_1.33.1.tar.gz /Library/Frameworks/R.framework/Resources/bin/R CATALYST.buildbin-libdir StartedAt: 2025-10-05 22:36:44 -0400 (Sun, 05 Oct 2025) EndedAt: 2025-10-05 22:37:01 -0400 (Sun, 05 Oct 2025) EllapsedTime: 17.3 seconds RetCode: 0 Status: OK PackageFile: CATALYST_1.33.1.tgz PackageFileSize: 12.77 MiB