Package: CARNIVAL Version: 2.19.0 Command: /Library/Frameworks/R.framework/Resources/bin/R CMD INSTALL CARNIVAL StartedAt: 2025-10-08 15:11:03 -0400 (Wed, 08 Oct 2025) EndedAt: 2025-10-08 15:11:05 -0400 (Wed, 08 Oct 2025) EllapsedTime: 2.3 seconds RetCode: 0 Status: OK