Package: CARNIVAL Version: 2.19.0 Command: /Library/Frameworks/R.framework/Resources/bin/R CMD check --install=check:CARNIVAL.install-out.txt --library=/Library/Frameworks/R.framework/Resources/library --no-vignettes --timings CARNIVAL_2.19.0.tar.gz StartedAt: 2025-10-09 18:34:55 -0400 (Thu, 09 Oct 2025) EndedAt: 2025-10-09 18:35:14 -0400 (Thu, 09 Oct 2025) EllapsedTime: 19.2 seconds RetCode: 0 Status: OK CheckDir: CARNIVAL.Rcheck Warnings: 0