Package: CARNIVAL Version: 2.19.0 Command: rm -rf CARNIVAL.buildbin-libdir && mkdir CARNIVAL.buildbin-libdir && /Users/biocbuild/BBS/utils/build-universal.sh CARNIVAL_2.19.0.tar.gz /Library/Frameworks/R.framework/Resources/bin/R CARNIVAL.buildbin-libdir StartedAt: 2025-10-08 22:41:14 -0400 (Wed, 08 Oct 2025) EndedAt: 2025-10-08 22:41:17 -0400 (Wed, 08 Oct 2025) EllapsedTime: 3.0 seconds RetCode: 0 Status: OK PackageFile: CARNIVAL_2.19.0.tgz PackageFileSize: 417.5 KiB