Package: CAMERA Version: 1.65.1 Command: F:\biocbuild\bbs-3.22-bioc\R\bin\R.exe CMD INSTALL CAMERA StartedAt: 2025-07-20 16:28:08 -0400 (Sun, 20 Jul 2025) EndedAt: 2025-07-20 16:31:13 -0400 (Sun, 20 Jul 2025) EllapsedTime: 184.4 seconds RetCode: 0 Status: OK