Package: CAMERA Version: 1.65.1 Command: rm -rf CAMERA.buildbin-libdir && mkdir CAMERA.buildbin-libdir && F:\biocbuild\bbs-3.22-bioc\R\bin\R.exe CMD INSTALL --build --library=CAMERA.buildbin-libdir CAMERA_1.65.1.tar.gz StartedAt: 2025-07-21 08:40:53 -0400 (Mon, 21 Jul 2025) EndedAt: 2025-07-21 08:43:30 -0400 (Mon, 21 Jul 2025) EllapsedTime: 156.3 seconds RetCode: 0 Status: OK PackageFile: CAMERA_1.65.1.zip PackageFileSize: 2.884 MiB