Package: CAGEr Version: 2.15.1 Command: /home/biocbuild/R/R/bin/R CMD INSTALL CAGEr StartedAt: 2025-07-17 21:18:17 -0000 (Thu, 17 Jul 2025) EndedAt: 2025-07-17 21:19:38 -0000 (Thu, 17 Jul 2025) EllapsedTime: 81.3 seconds RetCode: 0 Status: OK