Package: CAGEr Version: 2.15.1 Command: /home/biocbuild/R/R/bin/R CMD check --install=check:CAGEr.install-out.txt --library=/home/biocbuild/R/R/site-library --no-vignettes --timings CAGEr_2.15.1.tar.gz StartedAt: 2025-07-18 04:59:44 -0000 (Fri, 18 Jul 2025) EndedAt: 2025-07-18 04:59:48 -0000 (Fri, 18 Jul 2025) EllapsedTime: 4.0 seconds RetCode: 1 Status: ERROR CheckDir: CAGEr.Rcheck Warnings: NA