Package: CAGEr Version: 2.15.1 Command: chmod a+r CAGEr -R && F:\biocbuild\bbs-3.22-bioc\R\bin\R.exe CMD build --keep-empty-dirs --no-resave-data CAGEr StartedAt: 2025-07-24 17:57:39 -0400 (Thu, 24 Jul 2025) EndedAt: 2025-07-24 18:02:34 -0400 (Thu, 24 Jul 2025) EllapsedTime: 295.3 seconds RetCode: 0 Status: OK PackageFile: CAGEr_2.15.1.tar.gz PackageFileSize: 1.579 MiB