Package: CAGEr Version: 2.15.1 Command: /home/biocbuild/bbs-3.22-bioc/R/bin/R CMD INSTALL CAGEr StartedAt: 2025-07-16 16:07:51 -0400 (Wed, 16 Jul 2025) EndedAt: 2025-07-16 16:09:02 -0400 (Wed, 16 Jul 2025) EllapsedTime: 70.6 seconds RetCode: 0 Status: OK