Package: CAGEr Version: 2.15.1 Command: /Library/Frameworks/R.framework/Resources/bin/R CMD INSTALL CAGEr StartedAt: 2025-07-16 15:46:10 -0400 (Wed, 16 Jul 2025) EndedAt: 2025-07-16 15:47:35 -0400 (Wed, 16 Jul 2025) EllapsedTime: 85.0 seconds RetCode: 0 Status: OK