Package: CAGEr Version: 2.15.1 Command: /Library/Frameworks/R.framework/Resources/bin/R CMD check --install=check:CAGEr.install-out.txt --library=/Library/Frameworks/R.framework/Resources/library --no-vignettes --timings CAGEr_2.15.1.tar.gz StartedAt: 2025-07-17 19:30:13 -0400 (Thu, 17 Jul 2025) EndedAt: 2025-07-17 19:41:27 -0400 (Thu, 17 Jul 2025) EllapsedTime: 674.0 seconds RetCode: 0 Status: OK CheckDir: CAGEr.Rcheck Warnings: 0