Package: CAGEr Version: 2.15.1 Command: /Library/Frameworks/R.framework/Resources/bin/R CMD INSTALL CAGEr StartedAt: 2025-07-18 15:29:53 -0400 (Fri, 18 Jul 2025) EndedAt: 2025-07-18 15:30:18 -0400 (Fri, 18 Jul 2025) EllapsedTime: 25.1 seconds RetCode: 0 Status: OK