Package: CAGEr Version: 2.15.1 Maintainer: Charles Plessy MaintainerEmail: charles.plessy at oist.jp git_url: https://git.bioconductor.org/packages/CAGEr git_branch: devel git_last_commit: b05b175 git_last_commit_date: 2025-06-22 03:10:05 -0400 (Sun, 22 Jun 2025)