Package: CAGEfightR Version: 1.29.1 Command: F:\biocbuild\bbs-3.22-bioc\R\bin\R.exe CMD INSTALL CAGEfightR StartedAt: 2025-07-11 16:48:29 -0400 (Fri, 11 Jul 2025) EndedAt: 2025-07-11 16:49:48 -0400 (Fri, 11 Jul 2025) EllapsedTime: 79.9 seconds RetCode: 0 Status: OK