Package: CAGEfightR Version: 1.29.1 Command: F:\biocbuild\bbs-3.22-bioc\R\bin\R.exe CMD check --no-multiarch --install=check:CAGEfightR.install-out.txt --library=F:\biocbuild\bbs-3.22-bioc\R\library --no-vignettes --timings CAGEfightR_1.29.1.tar.gz StartedAt: 2025-07-12 00:01:29 -0400 (Sat, 12 Jul 2025) EndedAt: 2025-07-12 00:10:42 -0400 (Sat, 12 Jul 2025) EllapsedTime: 553.5 seconds RetCode: 0 Status: OK CheckDir: CAGEfightR.Rcheck Warnings: 0