Package: CAGEfightR Version: 1.29.1 Command: chmod a+r CAGEfightR -R && F:\biocbuild\bbs-3.22-bioc\R\bin\R.exe CMD build --keep-empty-dirs --no-resave-data CAGEfightR StartedAt: 2025-07-11 17:44:58 -0400 (Fri, 11 Jul 2025) EndedAt: 2025-07-11 17:51:24 -0400 (Fri, 11 Jul 2025) EllapsedTime: 386.3 seconds RetCode: 0 Status: OK PackageFile: CAGEfightR_1.29.1.tar.gz PackageFileSize: 1.569 MiB