Package: CAGEfightR Version: 1.29.1 Command: rm -rf CAGEfightR.buildbin-libdir && mkdir CAGEfightR.buildbin-libdir && F:\biocbuild\bbs-3.22-bioc\R\bin\R.exe CMD INSTALL --build --library=CAGEfightR.buildbin-libdir CAGEfightR_1.29.1.tar.gz StartedAt: 2025-07-12 08:28:36 -0400 (Sat, 12 Jul 2025) EndedAt: 2025-07-12 08:30:09 -0400 (Sat, 12 Jul 2025) EllapsedTime: 92.7 seconds RetCode: 0 Status: OK PackageFile: CAGEfightR_1.29.1.zip PackageFileSize: 2.494 MiB