Package: CAGEfightR Version: 1.29.1 Command: /home/biocbuild/bbs-3.22-bioc/R/bin/R CMD INSTALL CAGEfightR StartedAt: 2025-07-04 15:54:16 -0400 (Fri, 04 Jul 2025) EndedAt: 2025-07-04 15:55:07 -0400 (Fri, 04 Jul 2025) EllapsedTime: 50.4 seconds RetCode: 0 Status: OK