Package: CAGEfightR Version: 1.29.1 Command: /home/biocbuild/bbs-3.22-bioc/R/bin/R CMD check --install=check:CAGEfightR.install-out.txt --library=/home/biocbuild/bbs-3.22-bioc/R/site-library --timings CAGEfightR_1.29.1.tar.gz StartedAt: 2025-07-04 20:31:44 -0400 (Fri, 04 Jul 2025) EndedAt: 2025-07-04 20:40:41 -0400 (Fri, 04 Jul 2025) EllapsedTime: 537.6 seconds RetCode: 0 Status: OK CheckDir: CAGEfightR.Rcheck Warnings: 0