Package: CAFE Version: 1.45.0 Command: /home/biocbuild/R/R/bin/R CMD INSTALL CAFE StartedAt: 2025-07-21 21:24:16 -0000 (Mon, 21 Jul 2025) EndedAt: 2025-07-21 21:25:26 -0000 (Mon, 21 Jul 2025) EllapsedTime: 69.4 seconds RetCode: 0 Status: OK