Package: CAFE Version: 1.45.0 Command: /home/biocbuild/R/R/bin/R CMD check --install=check:CAFE.install-out.txt --library=/home/biocbuild/R/R/site-library --no-vignettes --timings CAFE_1.45.0.tar.gz StartedAt: 2025-07-22 05:15:53 -0000 (Tue, 22 Jul 2025) EndedAt: 2025-07-22 05:22:58 -0000 (Tue, 22 Jul 2025) EllapsedTime: 424.3 seconds RetCode: 0 Status: WARNINGS CheckDir: CAFE.Rcheck Warnings: 1