Package: CAFE Version: 1.45.0 Command: /home/biocbuild/R/R/bin/R CMD build --keep-empty-dirs --no-resave-data CAFE StartedAt: 2025-07-21 22:28:55 -0000 (Mon, 21 Jul 2025) EndedAt: 2025-07-21 22:30:42 -0000 (Mon, 21 Jul 2025) EllapsedTime: 107.0 seconds RetCode: 0 Status: OK PackageFile: CAFE_1.45.0.tar.gz PackageFileSize: 4.618 MiB