Package: CAEN Version: 1.17.0 Command: /home/biocbuild/R/R/bin/R CMD build --keep-empty-dirs --no-resave-data CAEN StartedAt: 2025-07-17 22:17:03 -0000 (Thu, 17 Jul 2025) EndedAt: 2025-07-17 22:19:52 -0000 (Thu, 17 Jul 2025) EllapsedTime: 169.1 seconds RetCode: 0 Status: OK PackageFile: CAEN_1.17.0.tar.gz PackageFileSize: 1013 KiB